BEGIN:VCALENDAR
VERSION:2.0
PRODID:-//Western Massachusetts Genealogical Society, Inc. - ECPv6.15.20//NONSGML v1.0//EN
CALSCALE:GREGORIAN
METHOD:PUBLISH
X-ORIGINAL-URL:https://westmassgen.com
X-WR-CALDESC:Events for Western Massachusetts Genealogical Society, Inc.
REFRESH-INTERVAL;VALUE=DURATION:PT1H
X-Robots-Tag:noindex
X-PUBLISHED-TTL:PT1H
BEGIN:VTIMEZONE
TZID:America/New_York
BEGIN:DAYLIGHT
TZOFFSETFROM:-0500
TZOFFSETTO:-0400
TZNAME:EDT
DTSTART:20200308T070000
END:DAYLIGHT
BEGIN:STANDARD
TZOFFSETFROM:-0400
TZOFFSETTO:-0500
TZNAME:EST
DTSTART:20201101T060000
END:STANDARD
BEGIN:DAYLIGHT
TZOFFSETFROM:-0500
TZOFFSETTO:-0400
TZNAME:EDT
DTSTART:20210314T070000
END:DAYLIGHT
BEGIN:STANDARD
TZOFFSETFROM:-0400
TZOFFSETTO:-0500
TZNAME:EST
DTSTART:20211107T060000
END:STANDARD
BEGIN:DAYLIGHT
TZOFFSETFROM:-0500
TZOFFSETTO:-0400
TZNAME:EDT
DTSTART:20220313T070000
END:DAYLIGHT
BEGIN:STANDARD
TZOFFSETFROM:-0400
TZOFFSETTO:-0500
TZNAME:EST
DTSTART:20221106T060000
END:STANDARD
END:VTIMEZONE
BEGIN:VEVENT
DTSTART;VALUE=DATE:20210225
DTEND;VALUE=DATE:20210228
DTSTAMP:20260421T083446
CREATED:20210126T144316Z
LAST-MODIFIED:20210126T144507Z
UID:39722-1614211200-1614470399@westmassgen.com
SUMMARY:RootsTech
DESCRIPTION:For the first time ever\, RootsTech\, the annual family history conference sponsored by\nFamilySearch\, will take place completely online. Usually\, RootsTech is a 4-day event\nheld annually in Salt Lake City\, Utah. However\, because of the pandemic\, the entire\nevent will be held virtually from February 25th-27th\, 2021. Incredibly\, it will be\ncompletely free this year!\nRootsTech Connect 2021 will offer a combination of both livestream and on-demand\ncontent to participants from around the world. For the three days of the online event\,\nattendees will have the opportunity to interact with speakers\, exhibitors\, and fellow\nattendees through live-chat and question & answer opportunities. Because of the\ndifferences in time zones\, sessions will also be available to view on-demand after the conference concludes. Even better\, sessions will be available for viewing for at least a whole year!\nRoots Tech Connect 2021 will feature keynote speakers\, dozens of classes\, and over 300 breakout sessions\, along with a virtual expo hall marketplace that you can visit from home. This is the largest family history conference in the world and you don’t have to even travel to participate in it.\nTo attend the live event and to access the on-demand sessions\, you must pre-register. Again\, the conference will be completely free and you can attend sessions from the comfort and safety of your home.\nhttps://www.rootstech.org/rootstech-connect-2021-registration?lang=eng
URL:https://westmassgen.com/event/rootstech/
LOCATION:Online
CATEGORIES:Conferences
END:VEVENT
END:VCALENDAR