BEGIN:VCALENDAR
VERSION:2.0
PRODID:-//Western Massachusetts Genealogical Society, Inc. - ECPv6.15.20//NONSGML v1.0//EN
CALSCALE:GREGORIAN
METHOD:PUBLISH
X-ORIGINAL-URL:https://westmassgen.com
X-WR-CALDESC:Events for Western Massachusetts Genealogical Society, Inc.
REFRESH-INTERVAL;VALUE=DURATION:PT1H
X-Robots-Tag:noindex
X-PUBLISHED-TTL:PT1H
BEGIN:VTIMEZONE
TZID:America/New_York
BEGIN:DAYLIGHT
TZOFFSETFROM:-0500
TZOFFSETTO:-0400
TZNAME:EDT
DTSTART:20180311T070000
END:DAYLIGHT
BEGIN:STANDARD
TZOFFSETFROM:-0400
TZOFFSETTO:-0500
TZNAME:EST
DTSTART:20181104T060000
END:STANDARD
BEGIN:DAYLIGHT
TZOFFSETFROM:-0500
TZOFFSETTO:-0400
TZNAME:EDT
DTSTART:20190310T070000
END:DAYLIGHT
BEGIN:STANDARD
TZOFFSETFROM:-0400
TZOFFSETTO:-0500
TZNAME:EST
DTSTART:20191103T060000
END:STANDARD
BEGIN:DAYLIGHT
TZOFFSETFROM:-0500
TZOFFSETTO:-0400
TZNAME:EDT
DTSTART:20200308T070000
END:DAYLIGHT
BEGIN:STANDARD
TZOFFSETFROM:-0400
TZOFFSETTO:-0500
TZNAME:EST
DTSTART:20201101T060000
END:STANDARD
END:VTIMEZONE
BEGIN:VEVENT
DTSTART;VALUE=DATE:20190403
DTEND;VALUE=DATE:20190407
DTSTAMP:20260422T182736
CREATED:20180812T155215Z
LAST-MODIFIED:20180812T155215Z
UID:1843-1554249600-1554595199@westmassgen.com
SUMMARY:NERGC 2019
DESCRIPTION:Join us for the New England Regional Genealogical Consortium’s 15th conference! \nNERGC 2019 will feature special tracks on Wednesday and regular conference presentations Thursday through Saturday. \nWhen you’re not attending sessions\, check out the Exhibit Hall\, Ancestors Road Show\, Society Fair\, and other fun and educational events. \nManchester is a vibrant city with world-class entertainment and fine dining\, all within walking distance of the conference hotel. Explore museums or visit a spa in the mill district along the riverfront\, or take in live music and nightlife at Irish\, Mexican\, Asian\, and American establishments. \nFor more information\, go to nergc.org. We look forward to seeing you at the conference!
URL:https://westmassgen.com/event/nergc-2019/
CATEGORIES:Conferences
END:VEVENT
END:VCALENDAR