BEGIN:VCALENDAR
VERSION:2.0
PRODID:-//Western Massachusetts Genealogical Society, Inc. - ECPv6.15.20//NONSGML v1.0//EN
CALSCALE:GREGORIAN
METHOD:PUBLISH
X-ORIGINAL-URL:https://westmassgen.com
X-WR-CALDESC:Events for Western Massachusetts Genealogical Society, Inc.
REFRESH-INTERVAL;VALUE=DURATION:PT1H
X-Robots-Tag:noindex
X-PUBLISHED-TTL:PT1H
BEGIN:VTIMEZONE
TZID:America/New_York
BEGIN:DAYLIGHT
TZOFFSETFROM:-0500
TZOFFSETTO:-0400
TZNAME:EDT
DTSTART:20180311T070000
END:DAYLIGHT
BEGIN:STANDARD
TZOFFSETFROM:-0400
TZOFFSETTO:-0500
TZNAME:EST
DTSTART:20181104T060000
END:STANDARD
BEGIN:DAYLIGHT
TZOFFSETFROM:-0500
TZOFFSETTO:-0400
TZNAME:EDT
DTSTART:20190310T070000
END:DAYLIGHT
BEGIN:STANDARD
TZOFFSETFROM:-0400
TZOFFSETTO:-0500
TZNAME:EST
DTSTART:20191103T060000
END:STANDARD
BEGIN:DAYLIGHT
TZOFFSETFROM:-0500
TZOFFSETTO:-0400
TZNAME:EDT
DTSTART:20200308T070000
END:DAYLIGHT
BEGIN:STANDARD
TZOFFSETFROM:-0400
TZOFFSETTO:-0500
TZNAME:EST
DTSTART:20201101T060000
END:STANDARD
END:VTIMEZONE
BEGIN:VEVENT
DTSTART;TZID=America/New_York:20190727T000000
DTEND;TZID=America/New_York:20190727T000000
DTSTAMP:20260422T120831
CREATED:20190503T180614Z
LAST-MODIFIED:20190503T180614Z
UID:8359-1564185600-1564185600@westmassgen.com
SUMMARY:History Camp 2019
DESCRIPTION:History Camp is the un-conference dedicated to all things history. Everyone is welcome to attend\, but registration is required\, and anyone can present\, assuming we have a time slot open. More information on History Camp\, including photos\, quotes\, and the profile of attendees from earlier History Camps\, is here.  The goal of History Camp Pioneer Valley is to break even – there are no paid staff\, no paid speakers\, and no one will profit. We will charge the lowest possible fee to cover the costs of the venue and lunch\, but to allow the greatest number of people to attend. This year the fee is $26.\nThere will also be plenty of opportunities for networking and an exhibit area for selling books and other history-related products.\nRegistration began on Patriots Day (April 15). To Register to Attend or Present\, go to: http://historycamp.org/pioneer-valley For more Information\, contact us at: pioneervalleyhistory@gmail.com
URL:https://westmassgen.com/event/history-camp-2019/
CATEGORIES:Conferences
END:VEVENT
END:VCALENDAR